BEGIN:VCALENDAR
VERSION:2.0
PRODID:-//Les Nouveaux Troubadours - ECPv5.16.1.1//NONSGML v1.0//EN
CALSCALE:GREGORIAN
METHOD:PUBLISH
X-WR-CALNAME:Les Nouveaux Troubadours
X-ORIGINAL-URL:http://www.lesnouveauxtroubadours.fr
X-WR-CALDESC:évènements pour Les Nouveaux Troubadours
BEGIN:VTIMEZONE
TZID:Europe/Paris
BEGIN:DAYLIGHT
TZOFFSETFROM:+0100
TZOFFSETTO:+0200
TZNAME:CEST
DTSTART:20210328T010000
END:DAYLIGHT
BEGIN:STANDARD
TZOFFSETFROM:+0200
TZOFFSETTO:+0100
TZNAME:CET
DTSTART:20211031T010000
END:STANDARD
END:VTIMEZONE
BEGIN:VEVENT
DTSTART;TZID=Europe/Paris:20210520T170000
DTEND;TZID=Europe/Paris:20210711T190000
DTSTAMP:20260423T085408
CREATED:20210329T090327Z
LAST-MODIFIED:20210619T195016Z
UID:4779-1621530000-1626030000@www.lesnouveauxtroubadours.fr
SUMMARY:[EXPO de PRINTEMPS] La collection du MAB et une expo collective de masques
DESCRIPTION:Du 20 mai au 7 juillet \nLe musée ouvrira ses portes le 3 avril si la situation sanitaire le permet\, avec une exposition de la collection et exposition participative «A vos Masques». L’association a proposé à tous\, artistes\, adultes\, enfants\, de laisser sa créativité s’exprimer librement sur un masque chirurgical. Peinture\, dessin\, collage\, couture… le musée a reçu 180 masques\, d’individuels\, de structures\, d’artistes\, et ce venant de toute la France. Une sélection des œuvres ont été exposées le temps d’un week-end en décembre. Ils seront montrés à nouveau pour l’ouverture 2021\, dans un nouvel accrochage exhaustif.Aux côtés de cette exposition on retrouve des oeuvres de la collection d’Art brut et singulier du Musée et des prêts. Une attention particulière sera portée à des oeuvres jamais montrées. Avec des oeuvres de Mina Mond\, Sylvain Corentin\, Joseph Kurhajec\, Pierre Amourette\, Béatrice Elso\, Pierre-Joseph Kurhajec\, Gérard Cambon….
URL:http://www.lesnouveauxtroubadours.fr/agenda/exposition-de-printemps/
LOCATION:Musée des Arts Buissonniers\, Saint-Sever-du-Moustier\, 12370\, France
CATEGORIES:Expo
ATTACH;FMTTYPE=image/jpeg:http://www.lesnouveauxtroubadours.fr/wp-content/uploads/2021/01/131441060_4048934418467229_6158324799524069565_n.jpg
END:VEVENT
BEGIN:VEVENT
DTSTART;TZID=Europe/Paris:20210709T190000
DTEND;TZID=Europe/Paris:20210709T233000
DTSTAMP:20260423T085408
CREATED:20210619T153243Z
LAST-MODIFIED:20210619T194752Z
UID:4929-1625857200-1625873400@www.lesnouveauxtroubadours.fr
SUMMARY:Soirée Bartas #3 : Flamenco et Sale Pierrot
DESCRIPTION:Tous les vendredis en juillet et août\, c’est Soirée Bartas (cafés-concert) au Bar’Tassou\, le bar associatif du Musée des Arts Buissonniers\, avec musique\, fanfare\, spectacles  au chapeau sur la place du village. \n  \nVendredi 9 juillet\n…Y Flamencas !\nAnimations sévillanes from Toulouse\, olé ! \nElles ont des métiers différents mais une passion commune\, le Flamenco. Attention les yeux ! \nSale Pierrot\nChanson pas si triste et révoltée \nFidèle parmi les fidèles\, revoilà Sale Pierrot\, sa guitare\, sa dégaine et ses mots aiguisés comme des couteaux. Nous fournissons les pansements. \nInfos pratiques\nLe Bar Tassou est ouvert en juillet et août de 15h à 20h et en soirée le vendredi et samedi. \nParticipation au chapeau pour les soirées Bartas. \nÉvénement en plein air\, annulation en cas de pluie. Pizzas à emporter. \n05 65 99 97 97
URL:http://www.lesnouveauxtroubadours.fr/agenda/soiree-bartas-3/
ATTACH;FMTTYPE=image/jpeg:http://www.lesnouveauxtroubadours.fr/wp-content/uploads/2021/06/flamenco.jpeg
END:VEVENT
END:VCALENDAR